BEGIN:VCALENDAR
VERSION:2.0
PRODID:-//OPCC - Old Portlians Cycling Club - South London ¦ Croydon ¦ Brom
 ley ¦ Kent and Surrey//NONSGML kigkonsult.se iCalcreator 2.30.10//
CALSCALE:GREGORIAN
METHOD:PUBLISH
UID:11e62cb3-79d7-41f1-b742-9d2ab0cf0a63
X-WR-CALNAME:iCagenda
X-WR-CALDESC:Event Management Extension for Joomla!
X-WR-RELCALID:3E26604A-50F4-4449-8B3E-E4F4932D05B5
X-WR-TIMEZONE:UTC
BEGIN:VTIMEZONE
TZID:UTC
END:VTIMEZONE
BEGIN:VEVENT
UID:e6967a85-1041-4196-b38e-75699c1315f2
DTSTAMP:20260420T085732Z
CATEGORIES:Century Series
CLASS:PUBLIC
DESCRIPTION;ALTREP="CID:<FFFF__=0ABBE548DFE235B58f9e8a93d@coffeebean.com>":
 A day trip to Rye and back covering 120 miles.
DTSTART:20200816T080000Z
DTEND:20200816T080000Z
GEO:00;0
LOCATION:Bottom of Corkscrew Hill\, West Wickham BR4 9B
ORGANIZER:
SEQUENCE:1
SUMMARY:Rye
TRANSP:OPAQUE
URL:https://oldportlianscc.co.uk/component/icagenda/7-rye/2020-08-16-08-00?
 Itemid=101
END:VEVENT
END:VCALENDAR
