BEGIN:VCALENDAR
VERSION:2.0
PRODID:-//OPCC - Old Portlians Cycling Club - South London ¦ Croydon ¦ Brom
 ley ¦ Kent and Surrey//NONSGML kigkonsult.se iCalcreator 2.30.10//
CALSCALE:GREGORIAN
METHOD:PUBLISH
UID:ec24fb82-3ae4-46ce-bde9-c1ab4c041512
X-WR-CALNAME:iCagenda
X-WR-CALDESC:Event Management Extension for Joomla!
X-WR-RELCALID:3E26604A-50F4-4449-8B3E-E4F4932D05B5
X-WR-TIMEZONE:UTC
BEGIN:VTIMEZONE
TZID:UTC
END:VTIMEZONE
BEGIN:VEVENT
UID:39a8f557-c092-457b-99fb-6734c4030ac1
DTSTAMP:20260420T084747Z
CATEGORIES:Century Series
CLASS:PUBLIC
DESCRIPTION;ALTREP="CID:<FFFF__=0ABBE548DFE235B58f9e8a93d@coffeebean.com>":
 We will cover a section of the Prudential ride route.
DTSTART:20200809T080000Z
DTEND:20200809T080000Z
GEO:00;0
LOCATION:Bottom of Corkscrew Hill\, West Wickham BR4 9B
ORGANIZER:
SEQUENCE:1
SUMMARY:Prudential Ride route
TRANSP:OPAQUE
URL:https://oldportlianscc.co.uk/component/icagenda/6-prudential-ride-route
 /2020-08-09-08-00?Itemid=101
END:VEVENT
END:VCALENDAR
