BEGIN:VCALENDAR
VERSION:2.0
PRODID:-//OPCC - Old Portlians Cycling Club - South London ¦ Croydon ¦ Brom
 ley ¦ Kent and Surrey//NONSGML kigkonsult.se iCalcreator 2.30.10//
CALSCALE:GREGORIAN
METHOD:PUBLISH
UID:cee0657f-e9fb-4bd4-abfe-3ff5724fe913
X-WR-CALNAME:iCagenda
X-WR-CALDESC:Event Management Extension for Joomla!
X-WR-RELCALID:3E26604A-50F4-4449-8B3E-E4F4932D05B5
X-WR-TIMEZONE:UTC
BEGIN:VTIMEZONE
TZID:UTC
END:VTIMEZONE
BEGIN:VEVENT
UID:b62cbf9f-cca7-4240-ab9f-82c9a165c8c5
DTSTAMP:20260420T100624Z
CATEGORIES:Track day
CLASS:PUBLIC
DESCRIPTION:
DTSTART:20200927T130000Z
DTEND:20200927T150000Z
GEO:00;0
LOCATION:Herne Hill Velodrome\, 104 Burbage Rd\, Dulwich\, London SE24 9HE
ORGANIZER:
SEQUENCE:1
SUMMARY:Track day 2020
TRANSP:OPAQUE
URL:https://oldportlianscc.co.uk/component/icagenda/3-track-day-2020?Itemid
 =101
END:VEVENT
END:VCALENDAR
